BEGIN:VCALENDAR
VERSION:2.0
PRODID:-//hacksw/handcal//NONSGML v1.0//EN
CALSCALE:GREGORIAN
BEGIN:VEVENT
LOCATION:MR20\, COM3-02-59
DESCRIPTION:For more information: https://events.comp.nus.edu.sg/view/26118
DTSTART:20260428T103000
DTEND:20260428T120000
SUMMARY:Narrative Models for Interpretable LLM Analysis of Document Corpora
URL;VALUE=URI:https://events.comp.nus.edu.sg/view/26118
DTSTAMP:20260424T203303
UID:69ebd37fa9217
END:VEVENT
END:VCALENDAR