BEGIN:VCALENDAR
VERSION:2.0
PRODID:-//hacksw/handcal//NONSGML v1.0//EN
CALSCALE:GREGORIAN
BEGIN:VEVENT
LOCATION:MR20\, COM3-02-59
DESCRIPTION:For more information: https://events.comp.nus.edu.sg/view/24879
DTSTART:20251023T140000
DTEND:20251023T150000
SUMMARY:Optimizing LLM serving at scale with open-source project llm-d
URL;VALUE=URI:https://events.comp.nus.edu.sg/view/24879
DTSTAMP:20260421T012753
UID:69e6d2992ab35
END:VEVENT
END:VCALENDAR