BEGIN:VCALENDAR
VERSION:2.0
PRODID:-//hacksw/handcal//NONSGML v1.0//EN
CALSCALE:GREGORIAN
BEGIN:VEVENT
LOCATION:SR12\, COM3 01-21
DESCRIPTION:For more information: https://events.comp.nus.edu.sg/view/24846
DTSTART:20251023T150000
DTEND:20251023T160000
SUMMARY:Multisensory Interfaces: Where the Senses Meet Technology to Inspire Change
URL;VALUE=URI:https://events.comp.nus.edu.sg/view/24846
DTSTAMP:20260421T012752
UID:69e6d298a01ae
END:VEVENT
END:VCALENDAR