BEGIN:VCALENDAR
VERSION:2.0
PRODID:-//hacksw/handcal//NONSGML v1.0//EN
CALSCALE:GREGORIAN
BEGIN:VEVENT
LOCATION:MR24\, COM3 02-64
DESCRIPTION:For more information: https://events.comp.nus.edu.sg/view/23482
DTSTART:20250127T120000
DTEND:20250127T133000
SUMMARY:Graph Decompositions and Length-Constrained Expanders
URL;VALUE=URI:https://events.comp.nus.edu.sg/view/23482
DTSTAMP:20260425T184913
UID:69ed0ca910ec2
END:VEVENT
END:VCALENDAR