BEGIN:VCALENDAR
VERSION:2.0
PRODID:-//hacksw/handcal//NONSGML v1.0//EN
CALSCALE:GREGORIAN
BEGIN:VEVENT
LOCATION:MR20\, COM3-02-59
DESCRIPTION:For more information: https://events.comp.nus.edu.sg/view/23471
DTSTART:20250122T150000
DTEND:20250122T160000
SUMMARY:Logic meets Learning: From Aristotle to Neural Networks
URL;VALUE=URI:https://events.comp.nus.edu.sg/view/23471
DTSTAMP:20260425T184913
UID:69ed0ca93bd56
END:VEVENT
END:VCALENDAR