BEGIN:VCALENDAR
VERSION:2.0
PRODID:-//hacksw/handcal//NONSGML v1.0//EN
CALSCALE:GREGORIAN
BEGIN:VEVENT
LOCATION:via zoom
DESCRIPTION:For more information: https://events.comp.nus.edu.sg/view/23445
DTSTART:20250113T090000
DTEND:20250113T103000
SUMMARY:Learning Probabilistic and Causal Models with(out) Imperfect Advice
URL;VALUE=URI:https://events.comp.nus.edu.sg/view/23445
DTSTAMP:20260420T011719
UID:69e57e9f62482
END:VEVENT
END:VCALENDAR