BEGIN:VCALENDAR
VERSION:2.0
PRODID:-//hacksw/handcal//NONSGML v1.0//EN
CALSCALE:GREGORIAN
BEGIN:VEVENT
LOCATION:SR21\, COM3 02-60
DESCRIPTION:For more information: https://events.comp.nus.edu.sg/view/23150
DTSTART:20241218T140000
DTEND:20241218T153000
SUMMARY:Digital Face Synthesis: Safeguarding against Threats
URL;VALUE=URI:https://events.comp.nus.edu.sg/view/23150
DTSTAMP:20260420T031139
UID:69e5996b8e36c
END:VEVENT
END:VCALENDAR