BEGIN:VCALENDAR
VERSION:2.0
PRODID:-//hacksw/handcal//NONSGML v1.0//EN
CALSCALE:GREGORIAN
BEGIN:VEVENT
LOCATION:MR20\, COM3-02-59
DESCRIPTION:For more information: https://events.comp.nus.edu.sg/view/22779
DTSTART:20240912T100000
DTEND:20240912T113000
SUMMARY:Generalizable Deep Learning: Addressing Distribution Shifts for Visual Recognition
URL;VALUE=URI:https://events.comp.nus.edu.sg/view/22779
DTSTAMP:20260422T225447
UID:69e951b7e7ee3
END:VEVENT
END:VCALENDAR