BEGIN:VCALENDAR
VERSION:2.0
PRODID:-//hacksw/handcal//NONSGML v1.0//EN
CALSCALE:GREGORIAN
BEGIN:VEVENT
LOCATION:MR1\, COM1-03-19
DESCRIPTION:For more information: https://events.comp.nus.edu.sg/view/22775
DTSTART:20240827T140000
DTEND:20240827T153000
SUMMARY:Going beyond ID-based Recommender Systems by Exploiting External Knowledge
URL;VALUE=URI:https://events.comp.nus.edu.sg/view/22775
DTSTAMP:20260419T145139
UID:69e4ebfb14484
END:VEVENT
END:VCALENDAR