BEGIN:VCALENDAR
VERSION:2.0
PRODID:-//hacksw/handcal//NONSGML v1.0//EN
CALSCALE:GREGORIAN
BEGIN:VEVENT
LOCATION:MR21\, COM3 02-61
DESCRIPTION:For more information: https://events.comp.nus.edu.sg/view/22615
DTSTART:20240705T150000
DTEND:20240705T160000
SUMMARY:ProveNFix: Temporal Property guided Program Repair
URL;VALUE=URI:https://events.comp.nus.edu.sg/view/22615
DTSTAMP:20260421T094600
UID:69e747586efdf
END:VEVENT
END:VCALENDAR