BEGIN:VCALENDAR
VERSION:2.0
PRODID:-//hacksw/handcal//NONSGML v1.0//EN
CALSCALE:GREGORIAN
BEGIN:VEVENT
LOCATION:MR20\, COM3-02-59
DESCRIPTION:For more information: https://events.comp.nus.edu.sg/view/21572
DTSTART:20231208T110000
DTEND:20231208T120000
SUMMARY:Uniting Large Language Models and Decision Trees
URL;VALUE=URI:https://events.comp.nus.edu.sg/view/21572
DTSTAMP:20260424T223101
UID:69ebef250e118
END:VEVENT
END:VCALENDAR