BEGIN:VCALENDAR
VERSION:2.0
PRODID:-//hacksw/handcal//NONSGML v1.0//EN
CALSCALE:GREGORIAN
BEGIN:VEVENT
LOCATION:SR11\, COM3 01-20
DESCRIPTION:For more information: https://events.comp.nus.edu.sg/view/21400
DTSTART:20231121T103000
DTEND:20231121T120000
SUMMARY:Two Essays On The Role Of Financial Technologies In Societal Change\, An Institutional Logics Perspective
URL;VALUE=URI:https://events.comp.nus.edu.sg/view/21400
DTSTAMP:20260420T031138
UID:69e5996a649c4
END:VEVENT
END:VCALENDAR