BEGIN:VCALENDAR
VERSION:2.0
PRODID:-//hacksw/handcal//NONSGML v1.0//EN
CALSCALE:GREGORIAN
BEGIN:VEVENT
LOCATION:MR1\, COM1-03-19
DESCRIPTION:For more information: https://events.comp.nus.edu.sg/view/21273
DTSTART:20230921T150000
DTEND:20230921T163000
SUMMARY:Domain Modelling
URL;VALUE=URI:https://events.comp.nus.edu.sg/view/21273
DTSTAMP:20260420T183553
UID:69e6720926abf
END:VEVENT
END:VCALENDAR