BEGIN:VCALENDAR
VERSION:2.0
PRODID:-//hacksw/handcal//NONSGML v1.0//EN
CALSCALE:GREGORIAN
BEGIN:VEVENT
LOCATION:SR3\, COM1-02-12
DESCRIPTION:For more information: https://events.comp.nus.edu.sg/view/19473
DTSTART:20220708T150000
DTEND:20220708T163000
SUMMARY:Learning Point Cloud Registration
URL;VALUE=URI:https://events.comp.nus.edu.sg/view/19473
DTSTAMP:20260421T094559
UID:69e7475792862
END:VEVENT
END:VCALENDAR