BEGIN:VCALENDAR
VERSION:2.0
PRODID:-//hacksw/handcal//NONSGML v1.0//EN
CALSCALE:GREGORIAN
BEGIN:VEVENT
LOCATION:Video Conference Room\, COM1-02-13 and Zoom
DESCRIPTION:For more information: https://events.comp.nus.edu.sg/view/19188
DTSTART:20220422T103000
DTEND:20220422T120000
SUMMARY:The Learning Sciences: Fundamental Research and its Applications
URL;VALUE=URI:https://events.comp.nus.edu.sg/view/19188
DTSTAMP:20260422T225447
UID:69e951b759775
END:VEVENT
END:VCALENDAR