BEGIN:VCALENDAR
VERSION:2.0
PRODID:-//hacksw/handcal//NONSGML v1.0//EN
CALSCALE:GREGORIAN
BEGIN:VEVENT
LOCATION:Zoom presentation
DESCRIPTION:For more information: https://events.comp.nus.edu.sg/view/19124
DTSTART:20220401T103000
DTEND:20220401T120000
SUMMARY:Transfer Learning for Neural-Network Quantum States
URL;VALUE=URI:https://events.comp.nus.edu.sg/view/19124
DTSTAMP:20260421T115355
UID:69e7655305eca
END:VEVENT
END:VCALENDAR