BEGIN:VCALENDAR
VERSION:2.0
PRODID:-//hacksw/handcal//NONSGML v1.0//EN
CALSCALE:GREGORIAN
BEGIN:VEVENT
LOCATION:Zoom presentation
DESCRIPTION:For more information: https://events.comp.nus.edu.sg/view/18824
DTSTART:20220208T100000
DTEND:20220208T113000
SUMMARY:Blockchains: Novel Data Systems and Beyond
URL;VALUE=URI:https://events.comp.nus.edu.sg/view/18824
DTSTAMP:20260421T115355
UID:69e765535bbfa
END:VEVENT
END:VCALENDAR