BEGIN:VCALENDAR
VERSION:2.0
PRODID:-//hacksw/handcal//NONSGML v1.0//EN
CALSCALE:GREGORIAN
BEGIN:VEVENT
LOCATION:Zoom presentation
DESCRIPTION:For more information: https://events.comp.nus.edu.sg/view/18509
DTSTART:20211005T163000
DTEND:20211005T180000
SUMMARY:Mixing Deductive and Inductive Analyses for Security Applications
URL;VALUE=URI:https://events.comp.nus.edu.sg/view/18509
DTSTAMP:20260420T011720
UID:69e57ea07173b
END:VEVENT
END:VCALENDAR