BEGIN:VCALENDAR
VERSION:2.0
PRODID:-//hacksw/handcal//NONSGML v1.0//EN
CALSCALE:GREGORIAN
BEGIN:VEVENT
LOCATION:Via Zoom
DESCRIPTION:For more information: https://events.comp.nus.edu.sg/view/18427
DTSTART:20210827T103000
DTEND:20210827T120000
SUMMARY:Enhancing Social Media Analysis with Visual Data Analytics: A Deep Learning Approach
URL;VALUE=URI:https://events.comp.nus.edu.sg/view/18427
DTSTAMP:20260421T012752
UID:69e6d298da08a
END:VEVENT
END:VCALENDAR