BEGIN:VCALENDAR
VERSION:2.0
PRODID:-//hacksw/handcal//NONSGML v1.0//EN
CALSCALE:GREGORIAN
BEGIN:VEVENT
LOCATION:Via Zoom
DESCRIPTION:For more information: https://events.comp.nus.edu.sg/view/17879
DTSTART:20210305T100000
DTEND:20210305T113000
SUMMARY:Online Contributions During Crisis
URL;VALUE=URI:https://events.comp.nus.edu.sg/view/17879
DTSTAMP:20260424T031641
UID:69eae09948dbe
END:VEVENT
END:VCALENDAR