BEGIN:VCALENDAR
VERSION:2.0
PRODID:-//hacksw/handcal//NONSGML v1.0//EN
CALSCALE:GREGORIAN
BEGIN:VEVENT
LOCATION:Zoom presentation
DESCRIPTION:For more information: https://events.comp.nus.edu.sg/view/17557
DTSTART:20201029T140000
DTEND:20201029T153000
SUMMARY:Effective Dissemination Of Healthcare Information And Its Behavioral Impacts
URL;VALUE=URI:https://events.comp.nus.edu.sg/view/17557
DTSTAMP:20260422T101621
UID:69e89ff5f4165
END:VEVENT
END:VCALENDAR