BEGIN:VCALENDAR
VERSION:2.0
PRODID:-//hacksw/handcal//NONSGML v1.0//EN
CALSCALE:GREGORIAN
BEGIN:VEVENT
LOCATION:e-Seminar via Zoom
https://nus-sg.zoom.us/j/91024363912?pwd=TzlrRmh0WWgzVVEveDZuYUJsT2NQdz09
Meeting ID: 910 2436 3912
Password: 655860
DESCRIPTION:For more information: https://events.comp.nus.edu.sg/view/17352
DTSTART:20200714T140000
DTEND:20200714T153000
SUMMARY:The Impact of Digital Platform's Modular Architecture and Governance Mechanisms on Export Scope Expansion in Family SMEs
URL;VALUE=URI:https://events.comp.nus.edu.sg/view/17352
DTSTAMP:20260420T011719
UID:69e57e9fb930a
END:VEVENT
END:VCALENDAR