BEGIN:VCALENDAR
VERSION:2.0
PRODID:-//hacksw/handcal//NONSGML v1.0//EN
CALSCALE:GREGORIAN
BEGIN:VEVENT
LOCATION:Executive Classroom\, COM2-04-02
DESCRIPTION:For more information: https://events.comp.nus.edu.sg/view/16473
DTSTART:20191002T150000
DTEND:20191002T163000
SUMMARY:Work Design in AI-based Applications: The Role of Advice Provision Timing
URL;VALUE=URI:https://events.comp.nus.edu.sg/view/16473
DTSTAMP:20260419T190934
UID:69e5286ea7f5e
END:VEVENT
END:VCALENDAR