BEGIN:VCALENDAR
VERSION:2.0
PRODID:-//hacksw/handcal//NONSGML v1.0//EN
CALSCALE:GREGORIAN
BEGIN:VEVENT
LOCATION:Video Conference Room\, COM1-02-13
DESCRIPTION:For more information: https://events.comp.nus.edu.sg/view/15654
DTSTART:20190125T103000
DTEND:20190125T120000
SUMMARY:Towards Better Data Driven Decisions
URL;VALUE=URI:https://events.comp.nus.edu.sg/view/15654
DTSTAMP:20260421T012752
UID:69e6d2986abfa
END:VEVENT
END:VCALENDAR