BEGIN:VCALENDAR
VERSION:2.0
PRODID:-//hacksw/handcal//NONSGML v1.0//EN
CALSCALE:GREGORIAN
BEGIN:VEVENT
LOCATION:Executive Classroom\, COM2-04-02
DESCRIPTION:For more information: https://events.comp.nus.edu.sg/view/15645
DTSTART:20190129T150000
DTEND:20190129T160000
SUMMARY:AI Programming by Children
URL;VALUE=URI:https://events.comp.nus.edu.sg/view/15645
DTSTAMP:20260424T135757
UID:69eb76e5d9011
END:VEVENT
END:VCALENDAR