BEGIN:VCALENDAR
VERSION:2.0
PRODID:-//hacksw/handcal//NONSGML v1.0//EN
CALSCALE:GREGORIAN
BEGIN:VEVENT
LOCATION:SR1\, COM1-02-06
DESCRIPTION:For more information: https://events.comp.nus.edu.sg/view/15526
DTSTART:20190107T000000
DTEND:20190110T000000
SUMMARY:Computer Science Research Week 2019
URL;VALUE=URI:https://events.comp.nus.edu.sg/view/15526
DTSTAMP:20260425T121535
UID:69ecb067453c5
END:VEVENT
END:VCALENDAR