BEGIN:VCALENDAR
VERSION:2.0
PRODID:-//hacksw/handcal//NONSGML v1.0//EN
CALSCALE:GREGORIAN
BEGIN:VEVENT
LOCATION:Executive Classroom\, COM2-04-02
DESCRIPTION:For more information: https://events.comp.nus.edu.sg/view/15414
DTSTART:20181206T140000
DTEND:20181206T153000
SUMMARY:Delivery of Health Services: Do Technological Features on Online Healthcare Platforms Matter?
URL;VALUE=URI:https://events.comp.nus.edu.sg/view/15414
DTSTAMP:20260423T063502
UID:69e9bd96b9c1b
END:VEVENT
END:VCALENDAR