BEGIN:VCALENDAR
VERSION:2.0
PRODID:-//hacksw/handcal//NONSGML v1.0//EN
CALSCALE:GREGORIAN
BEGIN:VEVENT
LOCATION:AS6-02-08 Discussion Room 5
DESCRIPTION:For more information: https://events.comp.nus.edu.sg/view/15191
DTSTART:20181017T150000
DTEND:20181017T163000
SUMMARY:TOPIC CONTINUITY FOR DISCOURSE AND DIALOGUE
URL;VALUE=URI:https://events.comp.nus.edu.sg/view/15191
DTSTAMP:20260422T175304
UID:69e90b004f184
END:VEVENT
END:VCALENDAR