BEGIN:VCALENDAR
VERSION:2.0
PRODID:-//hacksw/handcal//NONSGML v1.0//EN
CALSCALE:GREGORIAN
BEGIN:VEVENT
LOCATION:Executive Classroom\, COM2-04-02
DESCRIPTION:For more information: https://events.comp.nus.edu.sg/view/15058
DTSTART:20181008T140000
DTEND:20181008T153000
SUMMARY:Surviving Screen-off Battery through Out-of-Band Wi-Fi Communication
URL;VALUE=URI:https://events.comp.nus.edu.sg/view/15058
DTSTAMP:20260420T031139
UID:69e5996b65b2f
END:VEVENT
END:VCALENDAR