BEGIN:VCALENDAR
VERSION:2.0
PRODID:-//hacksw/handcal//NONSGML v1.0//EN
CALSCALE:GREGORIAN
BEGIN:VEVENT
LOCATION:Executive Classroom\, COM2-04-02
DESCRIPTION:For more information: https://events.comp.nus.edu.sg/view/15015
DTSTART:20180815T100000
DTEND:20180815T113000
SUMMARY:Enabling Optimizations Of Video Delivery In HTTP Adaptive Streaming
URL;VALUE=URI:https://events.comp.nus.edu.sg/view/15015
DTSTAMP:20260420T183553
UID:69e6720925004
END:VEVENT
END:VCALENDAR