BEGIN:VCALENDAR
VERSION:2.0
PRODID:-//hacksw/handcal//NONSGML v1.0//EN
CALSCALE:GREGORIAN
BEGIN:VEVENT
LOCATION:Executive Classroom\, COM2-04-02
DESCRIPTION:For more information: https://events.comp.nus.edu.sg/view/14827
DTSTART:20180604T100000
DTEND:20180604T113000
SUMMARY:Effective GPU-based Similarity Search
URL;VALUE=URI:https://events.comp.nus.edu.sg/view/14827
DTSTAMP:20260419T190935
UID:69e5286f08b33
END:VEVENT
END:VCALENDAR