BEGIN:VCALENDAR
VERSION:2.0
PRODID:-//hacksw/handcal//NONSGML v1.0//EN
CALSCALE:GREGORIAN
BEGIN:VEVENT
LOCATION:SR1\, COM1-02-06
DESCRIPTION:For more information: https://events.comp.nus.edu.sg/view/14438
DTSTART:20180306T160000
DTEND:20180306T180000
SUMMARY:The Age of Human Robot Collaboration: Deep Sea Exploration
URL;VALUE=URI:https://events.comp.nus.edu.sg/view/14438
DTSTAMP:20260425T184913
UID:69ed0ca99158b
END:VEVENT
END:VCALENDAR