BEGIN:VCALENDAR
VERSION:2.0
PRODID:-//hacksw/handcal//NONSGML v1.0//EN
CALSCALE:GREGORIAN
BEGIN:VEVENT
LOCATION:Executive Classroom\, COM2-04-02
DESCRIPTION:For more information: https://events.comp.nus.edu.sg/view/14416
DTSTART:20180126T130000
DTEND:20180126T140000
SUMMARY:Recent Advances in Behavioral Biometrics
URL;VALUE=URI:https://events.comp.nus.edu.sg/view/14416
DTSTAMP:20260420T031139
UID:69e5996b286b5
END:VEVENT
END:VCALENDAR