BEGIN:VCALENDAR
VERSION:2.0
PRODID:-//hacksw/handcal//NONSGML v1.0//EN
CALSCALE:GREGORIAN
BEGIN:VEVENT
LOCATION:Video Conference Room\, COM1-02-13
DESCRIPTION:For more information: https://events.comp.nus.edu.sg/view/14255
DTSTART:20171207T140000
DTEND:20171207T153000
SUMMARY:The P4 packet processing language\, and its use for high-speed networking based on FPGA technology
URL;VALUE=URI:https://events.comp.nus.edu.sg/view/14255
DTSTAMP:20260424T031640
UID:69eae098ce6c6
END:VEVENT
END:VCALENDAR