BEGIN:VCALENDAR
VERSION:2.0
PRODID:-//hacksw/handcal//NONSGML v1.0//EN
CALSCALE:GREGORIAN
BEGIN:VEVENT
LOCATION:Executive Classroom\, COM2-04-02
DESCRIPTION:For more information: https://events.comp.nus.edu.sg/view/13912
DTSTART:20170918T140000
DTEND:20170918T153000
SUMMARY:A Semiparametric Approach for Imputing Missing Value in Predictive Analytics
URL;VALUE=URI:https://events.comp.nus.edu.sg/view/13912
DTSTAMP:20260424T205557
UID:69ebd8dd04ba1
END:VEVENT
END:VCALENDAR