BEGIN:VCALENDAR
VERSION:2.0
PRODID:-//hacksw/handcal//NONSGML v1.0//EN
CALSCALE:GREGORIAN
BEGIN:VEVENT
LOCATION:Executive Classroom\, COM2-04-02
DESCRIPTION:For more information: https://events.comp.nus.edu.sg/view/13476
DTSTART:20170407T103000
DTEND:20170407T120000
SUMMARY:Understanding the technological evolution of high-tech firms by text mining
URL;VALUE=URI:https://events.comp.nus.edu.sg/view/13476
DTSTAMP:20260426T004945
UID:69ed61296ea29
END:VEVENT
END:VCALENDAR