BEGIN:VCALENDAR
VERSION:2.0
PRODID:-//hacksw/handcal//NONSGML v1.0//EN
CALSCALE:GREGORIAN
BEGIN:VEVENT
LOCATION:Executive Classroom\, COM2-04-02
DESCRIPTION:For more information: https://events.comp.nus.edu.sg/view/13411
DTSTART:20170322T140000
DTEND:20170322T153000
SUMMARY:Profiling Entities over Time with Unreliable Sources
URL;VALUE=URI:https://events.comp.nus.edu.sg/view/13411
DTSTAMP:20260423T141150
UID:69ea28a6ef013
END:VEVENT
END:VCALENDAR