BEGIN:VCALENDAR
VERSION:2.0
PRODID:-//hacksw/handcal//NONSGML v1.0//EN
CALSCALE:GREGORIAN
BEGIN:VEVENT
LOCATION:SR1\, COM1-02-06
DESCRIPTION:For more information: https://events.comp.nus.edu.sg/view/13306
DTSTART:20170214T100000
DTEND:20170214T110000
SUMMARY:Advance Robotics Center Colloquium: Cognitive Assistant For The Visually Impaired
URL;VALUE=URI:https://events.comp.nus.edu.sg/view/13306
DTSTAMP:20260425T180842
UID:69ed032aa29c6
END:VEVENT
END:VCALENDAR