BEGIN:VCALENDAR
VERSION:2.0
PRODID:-//hacksw/handcal//NONSGML v1.0//EN
CALSCALE:GREGORIAN
BEGIN:VEVENT
LOCATION:MR1\, COM1-03-19
DESCRIPTION:For more information: https://events.comp.nus.edu.sg/view/13226
DTSTART:20170112T140000
DTEND:20170112T150000
SUMMARY:Rich Semantics and Direct Representation for Digital Collections
URL;VALUE=URI:https://events.comp.nus.edu.sg/view/13226
DTSTAMP:20260420T063743
UID:69e5c9b758151
END:VEVENT
END:VCALENDAR