BEGIN:VCALENDAR
VERSION:2.0
PRODID:-//hacksw/handcal//NONSGML v1.0//EN
CALSCALE:GREGORIAN
BEGIN:VEVENT
LOCATION:MR3\, COM2-02-26
DESCRIPTION:For more information: https://events.comp.nus.edu.sg/view/12154
DTSTART:20160114T100000
DTEND:20160114T110000
SUMMARY:Talk 1: Model of Strategic Behavior for Interaction that Guide Others Internal State <br />
Talk 2: Interaction Design for HRI <br />
Talk 3: Human-Agent Interaction: Utilizing Social Intelligence with Agential Triggers <br />
Talk 4: Social Robots that Can Feel the Mood and Share Attention by Entrainment Effects
URL;VALUE=URI:https://events.comp.nus.edu.sg/view/12154
DTSTAMP:20260420T031138
UID:69e5996ab93a1
END:VEVENT
END:VCALENDAR