BEGIN:VCALENDAR
VERSION:2.0
PRODID:-//hacksw/handcal//NONSGML v1.0//EN
CALSCALE:GREGORIAN
BEGIN:VEVENT
LOCATION:Seminar Room @LT19
COM2\, Level 1
DESCRIPTION:For more information: https://events.comp.nus.edu.sg/view/12121
DTSTART:20151123T140000
DTEND:20151123T153000
SUMMARY:1. Event Modeling and Processing to Simplify Real-Time Analysis of Physiological Signals<br />
 <br />
2. DevCom: Device Communities for User-friendly and Trustworthy Communication\, Sharing\, and Collaboration
URL;VALUE=URI:https://events.comp.nus.edu.sg/view/12121
DTSTAMP:20260425T194304
UID:69ed194860a5b
END:VEVENT
END:VCALENDAR