BEGIN:VCALENDAR
VERSION:2.0
PRODID:-//hacksw/handcal//NONSGML v1.0//EN
CALSCALE:GREGORIAN
BEGIN:VEVENT
LOCATION:Executive Classroom\, COM2-04-02
DESCRIPTION:For more information: https://events.comp.nus.edu.sg/view/11808
DTSTART:20150909T103000
DTEND:20150909T120000
SUMMARY:Data Publishing with Differential Privacy: the Cases of Histograms and Graph Statistics
URL;VALUE=URI:https://events.comp.nus.edu.sg/view/11808
DTSTAMP:20260425T180842
UID:69ed032acf3f1
END:VEVENT
END:VCALENDAR