BEGIN:VCALENDAR
VERSION:2.0
PRODID:-//hacksw/handcal//NONSGML v1.0//EN
CALSCALE:GREGORIAN
BEGIN:VEVENT
LOCATION:Executive Classroom\, COM2-04-02
DESCRIPTION:For more information: https://events.comp.nus.edu.sg/view/11407
DTSTART:20150417T103000
DTEND:20150417T113000
SUMMARY:Your Eyes Tell Everything
URL;VALUE=URI:https://events.comp.nus.edu.sg/view/11407
DTSTAMP:20260422T134513
UID:69e8d0e98e2bc
END:VEVENT
END:VCALENDAR