BEGIN:VCALENDAR
VERSION:2.0
PRODID:-//hacksw/handcal//NONSGML v1.0//EN
CALSCALE:GREGORIAN
BEGIN:VEVENT
LOCATION:Executive Classroom\, COM2-04-02
DESCRIPTION:For more information: https://events.comp.nus.edu.sg/view/11373
DTSTART:20150323T110000
DTEND:20150323T123000
SUMMARY:Interactive Music Recommendation: Context\, Content and Collaborative Filtering
URL;VALUE=URI:https://events.comp.nus.edu.sg/view/11373
DTSTAMP:20260420T011718
UID:69e57e9edce07
END:VEVENT
END:VCALENDAR