BEGIN:VCALENDAR
VERSION:2.0
PRODID:-//hacksw/handcal//NONSGML v1.0//EN
CALSCALE:GREGORIAN
BEGIN:VEVENT
LOCATION:Executive Classroom\, COM2-04-02
DESCRIPTION:For more information: https://events.comp.nus.edu.sg/view/11362
DTSTART:20150406T150000
DTEND:20150406T163000
SUMMARY:Software Techniques for Energy Efficient Memories
URL;VALUE=URI:https://events.comp.nus.edu.sg/view/11362
DTSTAMP:20260420T011720
UID:69e57ea01e89d
END:VEVENT
END:VCALENDAR