BEGIN:VCALENDAR
VERSION:2.0
PRODID:-//hacksw/handcal//NONSGML v1.0//EN
CALSCALE:GREGORIAN
BEGIN:VEVENT
LOCATION:Executive Classroom\, COM2-04-02
DESCRIPTION:For more information: https://events.comp.nus.edu.sg/view/11279
DTSTART:20150324T150000
DTEND:20150324T163000
SUMMARY:Automated Analysis of Neuronal Morphology: Detection\, Modeling and Reconstruction
URL;VALUE=URI:https://events.comp.nus.edu.sg/view/11279
DTSTAMP:20260420T011720
UID:69e57ea095b93
END:VEVENT
END:VCALENDAR