BEGIN:VCALENDAR
VERSION:2.0
PRODID:-//hacksw/handcal//NONSGML v1.0//EN
CALSCALE:GREGORIAN
BEGIN:VEVENT
LOCATION:Executive Classroom\, COM2-04-02
DESCRIPTION:For more information: https://events.comp.nus.edu.sg/view/10793
DTSTART:20140922T160000
DTEND:20140922T173000
SUMMARY:VIP: A unifying framework for eye-gaze research
URL;VALUE=URI:https://events.comp.nus.edu.sg/view/10793
DTSTAMP:20260423T141151
UID:69ea28a75437d
END:VEVENT
END:VCALENDAR