BEGIN:VCALENDAR
VERSION:2.0
PRODID:-//hacksw/handcal//NONSGML v1.0//EN
CALSCALE:GREGORIAN
BEGIN:VEVENT
LOCATION:Executive Classroom\, COM2-04-02
DESCRIPTION:For more information: https://events.comp.nus.edu.sg/view/10733
DTSTART:20141001T100000
DTEND:20141001T113000
SUMMARY:Personalizing Recommendation in E-Commerce and Micro-blog Social Networks
URL;VALUE=URI:https://events.comp.nus.edu.sg/view/10733
DTSTAMP:20260425T180843
UID:69ed032b3df32
END:VEVENT
END:VCALENDAR