BEGIN:VCALENDAR
VERSION:2.0
PRODID:-//hacksw/handcal//NONSGML v1.0//EN
CALSCALE:GREGORIAN
BEGIN:VEVENT
LOCATION:Executive Classroom\, COM2-04-02
DESCRIPTION:For more information: https://events.comp.nus.edu.sg/view/10179
DTSTART:20140519T150000
DTEND:20140519T163000
SUMMARY:A Dynamic Heterogeneous Multi-Core Architecture
URL;VALUE=URI:https://events.comp.nus.edu.sg/view/10179
DTSTAMP:20260425T194304
UID:69ed1948cbcf0
END:VEVENT
END:VCALENDAR